BEGIN:VCALENDAR
VERSION:2.0
PRODID:-//Neil Sandilands - ECPv6.15.20//NONSGML v1.0//EN
CALSCALE:GREGORIAN
METHOD:PUBLISH
X-ORIGINAL-URL:http://neilsandilands.com
X-WR-CALDESC:Events for Neil Sandilands
REFRESH-INTERVAL;VALUE=DURATION:PT1H
X-Robots-Tag:noindex
X-PUBLISHED-TTL:PT1H
BEGIN:VTIMEZONE
TZID:UTC
BEGIN:STANDARD
TZOFFSETFROM:+0000
TZOFFSETTO:+0000
TZNAME:UTC
DTSTART:20240101T000000
END:STANDARD
END:VTIMEZONE
BEGIN:VEVENT
DTSTART;TZID=UTC:20260331T180000
DTEND;TZID=UTC:20260331T190000
DTSTAMP:20260421T144520
CREATED:20260303T084154Z
LAST-MODIFIED:20260303T084332Z
UID:2556-1774980000-1774983600@neilsandilands.com
SUMMARY:DIE VYFTIGERS BY KKNK
DESCRIPTION:“Die Vyftigers” se technicolor sweefmat vlieg weer\, vir oulaasste laas\, drie enkelaande in 2026. Die vorige boksemdaais by Die Boer was guit en vroegdag uitverkoop. Gehore landswyd is gedurende 2025 deur dié viermanskap bekoor. Eietydse mitologie is gestig en NOU is jou geleentheid om te kom meemaak aan dié kultuurskat. 4 Kontemporêre muskant-liedjieskrywers\, ’n kruiwavol toekennings tussen die lot\, iederelk het in 2025 die 50ste merk op die kettie gekerf\, wat kan nou verkeerd gaan? Alles! Op die regte manier! Met Gian Groen\, Neil Sandilands\, Schalk Joubert & Abel Kraamsaal.
URL:http://neilsandilands.com/event/die-vyftigers-by-kknk/
LOCATION:KKNK\, Oudshoorn\, South Africa
END:VEVENT
BEGIN:VEVENT
DTSTART;TZID=UTC:20260324T200000
DTEND;TZID=UTC:20260324T213000
DTSTAMP:20260421T144520
CREATED:20260303T080614Z
LAST-MODIFIED:20260303T151436Z
UID:2554-1774382400-1774387800@neilsandilands.com
SUMMARY:DIE VYFTIGERS - BY DIE BOER
DESCRIPTION:“Die Vyftigers” se technicolor sweefmat vlieg weer\, vir oulaasste laas\, drie enkelaande in 2026. Die vorige boksemdaais by Die Boer was guit en vroegdag uitverkoop. Gehore landswyd is gedurende 2025 deur dié viermanskap bekoor. Eietydse mitologie is gestig en NOU is jou geleentheid om te kom meemaak aan dié kultuurskat. 4 Kontemporêre muskant-liedjieskrywers\, ’n kruiwavol toekennings tussen die lot\, iederelk het in 2025 die 50ste merk op die kettie gekerf\, wat kan nou verkeerd gaan? Alles! Op die regte manier! Met Gian Groen\, Neil Sandilands\, Schalk Joubert & Abel Kraamsaal.
URL:http://neilsandilands.com/event/die-vyftigers-by-die-boer/
LOCATION:DIE BOER\, 6 Chenoweth St\, Durbanville\, Western Cape\, 7551\, South Africa
END:VEVENT
BEGIN:VEVENT
DTSTART;TZID=UTC:20251014T200000
DTEND;TZID=UTC:20251014T213000
DTSTAMP:20260421T144520
CREATED:20250624T123335Z
LAST-MODIFIED:20250624T123339Z
UID:2538-1760472000-1760477400@neilsandilands.com
SUMMARY:DIE VYFTIGERS - STELLENBOSCH
DESCRIPTION:Neil Sandilands\, Schalk Joubert\, Gian Groen en Abel Kraamsaal — vier kunstenaars\, vier stories\, een verhoog. Hulle skryf\, speel en leef Afrikaans soos min\, en nou is hulle saam op een verhoog vir ’n aand van rou\, eerlike musiek en viering. Noem dit ’n bietjie sinmaak van die laaste 100 jaar van taal en die laaste 50 jaar van lewe — alles in een aand\, een plek\, en in een kragtige\, kreatiewe taal: Afrikaans.
URL:http://neilsandilands.com/event/die-vyftigers-stellenbosch-2/
LOCATION:LIVE at Daisy Jones\, R44 klapmuts rd\, Stellenbosch\, Western Cape\, 7613\, South Africa
END:VEVENT
BEGIN:VEVENT
DTSTART;TZID=UTC:20250928T160000
DTEND;TZID=UTC:20250928T173000
DTSTAMP:20260421T144520
CREATED:20250609T104559Z
LAST-MODIFIED:20250609T104605Z
UID:2484-1759075200-1759080600@neilsandilands.com
SUMMARY:DIE VYFTIGERS - CENTURION
DESCRIPTION:Neil Sandilands\, Schalk Joubert\, Gian Groen en Abel Kraamsaal — vier kunstenaars\, vier stories\, een verhoog. Hulle skryf\, speel en leef Afrikaans soos min\, en nou is hulle saam op een verhoog vir ’n aand van rou\, eerlike musiek en viering. Noem dit ’n bietjie sinmaak van die laaste 100 jaar van taal en die laaste 50 jaar van lewe — alles in een aand\, een plek\, en in een kragtige\, kreatiewe taal: Afrikaans.
URL:http://neilsandilands.com/event/die-vyftigers-centurion-2/
LOCATION:Die Centurion Teater\, 123 Amkor Rd\, Lyttelton Manor\, Centurion\, Gauteng\, 0157\, South Africa
END:VEVENT
BEGIN:VEVENT
DTSTART;TZID=UTC:20250927T080000
DTEND;TZID=UTC:20250927T170000
DTSTAMP:20260421T144520
CREATED:20250609T105017Z
LAST-MODIFIED:20250609T105244Z
UID:2486-1758960000-1758992400@neilsandilands.com
SUMMARY:DIE VYFTIGERS - POTCHEFSTROOM
DESCRIPTION:Neil Sandilands\, Schalk Joubert\, Gian Groen en Abel Kraamsaal — vier kunstenaars\, vier stories\, een verhoog. Hulle skryf\, speel en leef Afrikaans soos min\, en nou is hulle saam op een verhoog vir ’n aand van rou\, eerlike musiek en viering. Noem dit ’n bietjie sinmaak van die laaste 100 jaar van taal en die laaste 50 jaar van lewe — alles in een aand\, een plek\, en in een kragtige\, kreatiewe taal: Afrikaans.
URL:http://neilsandilands.com/event/die-vyftigers-potchefstroom/
LOCATION:Loopstraat\, 37 Loop St\, Potchefstroom\, North West\, 2531\, South Africa
END:VEVENT
BEGIN:VEVENT
DTSTART;TZID=UTC:20250926T193000
DTEND;TZID=UTC:20250926T210000
DTSTAMP:20260421T144520
CREATED:20250609T104314Z
LAST-MODIFIED:20250609T104318Z
UID:2480-1758915000-1758920400@neilsandilands.com
SUMMARY:DIE VYFTIGERS - CENTURION
DESCRIPTION:Neil Sandilands\, Schalk Joubert\, Gian Groen en Abel Kraamsaal — vier kunstenaars\, vier stories\, een verhoog. Hulle skryf\, speel en leef Afrikaans soos min\, en nou is hulle saam op een verhoog vir ’n aand van rou\, eerlike musiek en viering. Noem dit ’n bietjie sinmaak van die laaste 100 jaar van taal en die laaste 50 jaar van lewe — alles in een aand\, een plek\, en in een kragtige\, kreatiewe taal: Afrikaans.
URL:http://neilsandilands.com/event/die-vyftigers-centurion/
LOCATION:Die Centurion Teater\, 123 Amkor Rd\, Lyttelton Manor\, Centurion\, Gauteng\, 0157\, South Africa
END:VEVENT
BEGIN:VEVENT
DTSTART;TZID=UTC:20250925T080000
DTEND;TZID=UTC:20250925T170000
DTSTAMP:20260421T144520
CREATED:20250609T103846Z
LAST-MODIFIED:20250609T103850Z
UID:2478-1758787200-1758819600@neilsandilands.com
SUMMARY:DIE VYFTIGERS - WITRIVIER
DESCRIPTION:Neil Sandilands\, Schalk Joubert\, Gian Groen en Abel Kraamsaal — vier kunstenaars\, vier stories\, een verhoog. Hulle skryf\, speel en leef Afrikaans soos min\, en nou is hulle saam op een verhoog vir ’n aand van rou\, eerlike musiek en viering. Noem dit ’n bietjie sinmaak van die laaste 100 jaar van taal en die laaste 50 jaar van lewe — alles in een aand\, een plek\, en in een kragtige\, kreatiewe taal: Afrikaans.
URL:http://neilsandilands.com/event/die-vyftigers-witrivier/
LOCATION:YOONS Eatery\, corner of R40 and\, R537\, Crossings\, Witrivier\, Mpumalanga\, 1240\, South Africa
END:VEVENT
BEGIN:VEVENT
DTSTART;TZID=UTC:20250924T080000
DTEND;TZID=UTC:20250924T170000
DTSTAMP:20260421T144520
CREATED:20250609T103429Z
LAST-MODIFIED:20250609T103434Z
UID:2476-1758700800-1758733200@neilsandilands.com
SUMMARY:DIE VYFTIGERS - SASOLBURG
DESCRIPTION:Neil Sandilands\, Schalk Joubert\, Gian Groen en Abel Kraamsaal — vier kunstenaars\, vier stories\, een verhoog. Hulle skryf\, speel en leef Afrikaans soos min\, en nou is hulle saam op een verhoog vir ’n aand van rou\, eerlike musiek en viering. Noem dit ’n bietjie sinmaak van die laaste 100 jaar van taal en die laaste 50 jaar van lewe — alles in een aand\, een plek\, en in een kragtige\, kreatiewe taal: Afrikaans.
URL:http://neilsandilands.com/event/die-vyftigers-sasolburg/
LOCATION:Etienne Rousseau Teater\, 8 John Vorster Ave\, Sasolburg\, Free State\, 1947\, South Africa
END:VEVENT
BEGIN:VEVENT
DTSTART;TZID=UTC:20250921T080000
DTEND;TZID=UTC:20250921T170000
DTSTAMP:20260421T144520
CREATED:20250609T103116Z
LAST-MODIFIED:20250609T103120Z
UID:2474-1758441600-1758474000@neilsandilands.com
SUMMARY:DIE VYFTIGERS - PRETORIA
DESCRIPTION:Neil Sandilands\, Schalk Joubert\, Gian Groen en Abel Kraamsaal — vier kunstenaars\, vier stories\, een verhoog. Hulle skryf\, speel en leef Afrikaans soos min\, en nou is hulle saam op een verhoog vir ’n aand van rou\, eerlike musiek en viering. Noem dit ’n bietjie sinmaak van die laaste 100 jaar van taal en die laaste 50 jaar van lewe — alles in een aand\, een plek\, en in een kragtige\, kreatiewe taal: Afrikaans.
URL:http://neilsandilands.com/event/die-vyftigers-pretoria-4/
LOCATION:Pierneef Teater\, Mogg Ave\, Villieria\, Pretoria\, Gauteng\, 0084\, South Africa
END:VEVENT
BEGIN:VEVENT
DTSTART;TZID=UTC:20250920T080000
DTEND;TZID=UTC:20250920T170000
DTSTAMP:20260421T144520
CREATED:20250609T102729Z
LAST-MODIFIED:20250609T102734Z
UID:2472-1758355200-1758387600@neilsandilands.com
SUMMARY:DIE VYFTIGERS - SECUNDA
DESCRIPTION:Neil Sandilands\, Schalk Joubert\, Gian Groen en Abel Kraamsaal — vier kunstenaars\, vier stories\, een verhoog. Hulle skryf\, speel en leef Afrikaans soos min\, en nou is hulle saam op een verhoog vir ’n aand van rou\, eerlike musiek en viering. Noem dit ’n bietjie sinmaak van die laaste 100 jaar van taal en die laaste 50 jaar van lewe — alles in een aand\, een plek\, en in een kragtige\, kreatiewe taal: Afrikaans.
URL:http://neilsandilands.com/event/die-vyftigers-secunda/
LOCATION:Lake Umuzi\, 1 Kiewiet St\, Secunda\, Mpumalanga\, 2302\, South Africa
END:VEVENT
BEGIN:VEVENT
DTSTART;TZID=UTC:20250919T080000
DTEND;TZID=UTC:20250919T170000
DTSTAMP:20260421T144520
CREATED:20250609T102243Z
LAST-MODIFIED:20250609T102246Z
UID:2468-1758268800-1758301200@neilsandilands.com
SUMMARY:DIE VYFTIGERS - WELKOM
DESCRIPTION:Neil Sandilands\, Schalk Joubert\, Gian Groen en Abel Kraamsaal — vier kunstenaars\, vier stories\, een verhoog. Hulle skryf\, speel en leef Afrikaans soos min\, en nou is hulle saam op een verhoog vir ’n aand van rou\, eerlike musiek en viering. Noem dit ’n bietjie sinmaak van die laaste 100 jaar van taal en die laaste 50 jaar van lewe — alles in een aand\, een plek\, en in een kragtige\, kreatiewe taal: Afrikaans.
URL:http://neilsandilands.com/event/die-vyftigers-welkom/
LOCATION:Melkkan\, Plaas Silwerstraal Op R710\, Welkom\, Free State\, 9460\, South Africa
END:VEVENT
BEGIN:VEVENT
DTSTART;TZID=UTC:20250918T200000
DTEND;TZID=UTC:20250918T213000
DTSTAMP:20260421T144520
CREATED:20250609T101608Z
LAST-MODIFIED:20250609T101611Z
UID:2464-1758225600-1758231000@neilsandilands.com
SUMMARY:DIE VYFTIGERS - BLOEMFONTEIN
DESCRIPTION:Neil Sandilands\, Schalk Joubert\, Gian Groen en Abel Kraamsaal — vier kunstenaars\, vier stories\, een verhoog. Hulle skryf\, speel en leef Afrikaans soos min\, en nou is hulle saam op een verhoog vir ’n aand van rou\, eerlike musiek en viering. Noem dit ’n bietjie sinmaak van die laaste 100 jaar van taal en die laaste 50 jaar van lewe — alles in een aand\, een plek\, en in een kragtige\, kreatiewe taal: Afrikaans.
URL:http://neilsandilands.com/event/die-vyftigers-bloemfontein/
LOCATION:Aasvoël Klub\, Plot 35\, 9de Laan\, Bloemfontein\, Free State\, 9300\, South Africa
END:VEVENT
BEGIN:VEVENT
DTSTART;TZID=UTC:20250822T193000
DTEND;TZID=UTC:20250822T210000
DTSTAMP:20260421T144520
CREATED:20250609T100633Z
LAST-MODIFIED:20250609T100637Z
UID:2462-1755891000-1755896400@neilsandilands.com
SUMMARY:DIE VYFTIGERS - PRETORIA
DESCRIPTION:Neil Sandilands\, Schalk Joubert\, Gian Groen en Abel Kraamsaal — vier kunstenaars\, vier stories\, een verhoog. Hulle skryf\, speel en leef Afrikaans soos min\, en nou is hulle saam op een verhoog vir ’n aand van rou\, eerlike musiek en viering. Noem dit ’n bietjie sinmaak van die laaste 100 jaar van taal en die laaste 50 jaar van lewe — alles in een aand\, een plek\, en in een kragtige\, kreatiewe taal: Afrikaans.
URL:http://neilsandilands.com/event/die-vyftigers-pretoria-3/
LOCATION:Afriforum Teater\, Greenlyn Village-sentrum H.v. Thomas Edison en\, 13th St\, Pretoria\, Gauteng\, 0081\, South Africa
END:VEVENT
BEGIN:VEVENT
DTSTART;TZID=UTC:20250821T193000
DTEND;TZID=UTC:20250821T210000
DTSTAMP:20260421T144520
CREATED:20250609T100344Z
LAST-MODIFIED:20250609T100347Z
UID:2458-1755804600-1755810000@neilsandilands.com
SUMMARY:DIE VYFTIGERS - PRETORIA
DESCRIPTION:Neil Sandilands\, Schalk Joubert\, Gian Groen en Abel Kraamsaal — vier kunstenaars\, vier stories\, een verhoog. Hulle skryf\, speel en leef Afrikaans soos min\, en nou is hulle saam op een verhoog vir ’n aand van rou\, eerlike musiek en viering. Noem dit ’n bietjie sinmaak van die laaste 100 jaar van taal en die laaste 50 jaar van lewe — alles in een aand\, een plek\, en in een kragtige\, kreatiewe taal: Afrikaans.
URL:http://neilsandilands.com/event/die-vyftigers-pretoria-2/
LOCATION:Afriforum Teater\, Greenlyn Village-sentrum H.v. Thomas Edison en\, 13th St\, Pretoria\, Gauteng\, 0081\, South Africa
END:VEVENT
BEGIN:VEVENT
DTSTART;TZID=UTC:20250820T180000
DTEND;TZID=UTC:20250820T200000
DTSTAMP:20260421T144520
CREATED:20250609T095637Z
LAST-MODIFIED:20250609T100023Z
UID:2456-1755712800-1755720000@neilsandilands.com
SUMMARY:DIE VYFTIGERS - PRETORIA
DESCRIPTION:Neil Sandilands\, Schalk Joubert\, Gian Groen en Abel Kraamsaal — vier kunstenaars\, vier stories\, een verhoog. Hulle skryf\, speel en leef Afrikaans soos min\, en nou is hulle saam op een verhoog vir ’n aand van rou\, eerlike musiek en viering. Noem dit ’n bietjie sinmaak van die laaste 100 jaar van taal en die laaste 50 jaar van lewe — alles in een aand\, een plek\, en in een kragtige\, kreatiewe taal: Afrikaans.
URL:http://neilsandilands.com/event/die-vyftigers-pretoria/
LOCATION:Cafe Barcelona\, 53 Thomson Street Colbyn\, Pretoria\, Gauteng\, 0084\, South Africa
END:VEVENT
BEGIN:VEVENT
DTSTART;TZID=UTC:20250810T183000
DTEND;TZID=UTC:20250810T200000
DTSTAMP:20260421T144520
CREATED:20250602T075304Z
LAST-MODIFIED:20250602T075306Z
UID:2416-1754850600-1754856000@neilsandilands.com
SUMMARY:DIE VYFTIGERS - CAPE TOWN
DESCRIPTION:Neil Sandilands\, Schalk Joubert\, Gian Groen en Abel Kraamsaal — vier kunstenaars\, vier stories\, een verhoog. Hulle skryf\, speel en leef Afrikaans soos min\, en nou is hulle saam op een verhoog vir ’n aand van rou\, eerlike musiek en viering. Noem dit ’n bietjie sinmaak van die laaste 100 jaar van taal en die laaste 50 jaar van lewe — alles in een aand\, een plek\, en in een kragtige\, kreatiewe taal: Afrikaans.
URL:http://neilsandilands.com/event/die-vyftigers-cape-town/
LOCATION:The Alma Cafe\, 20 Alma Rd\, Rosebank\, Cape Town\, Western Cape\, 7700\, South Africa
END:VEVENT
BEGIN:VEVENT
DTSTART;TZID=UTC:20250809T180000
DTEND;TZID=UTC:20250809T193000
DTSTAMP:20260421T144520
CREATED:20250602T075618Z
LAST-MODIFIED:20250602T075621Z
UID:2413-1754762400-1754767800@neilsandilands.com
SUMMARY:DIE VYFTIGERS - HERMANUS
DESCRIPTION:Neil Sandilands\, Schalk Joubert\, Gian Groen en Abel Kraamsaal — vier kunstenaars\, vier stories\, een verhoog. Hulle skryf\, speel en leef Afrikaans soos min\, en nou is hulle saam op een verhoog vir ’n aand van rou\, eerlike musiek en viering. Noem dit ’n bietjie sinmaak van die laaste 100 jaar van taal en die laaste 50 jaar van lewe — alles in een aand\, een plek\, en in een kragtige\, kreatiewe taal: Afrikaans.
URL:http://neilsandilands.com/event/die-vyftigers-hermanus/
LOCATION:Hermanus Munisipale Ouditorium\, 1 Harmony Rylaan\, Hermanus\, Western Cape\, 7200\, South Africa
END:VEVENT
BEGIN:VEVENT
DTSTART;TZID=UTC:20250808T200000
DTEND;TZID=UTC:20250808T213000
DTSTAMP:20260421T144520
CREATED:20250602T075701Z
LAST-MODIFIED:20250602T075703Z
UID:2411-1754683200-1754688600@neilsandilands.com
SUMMARY:DIE VYFTIGERS - MOSSELBAAI
DESCRIPTION:Neil Sandilands\, Schalk Joubert\, Gian Groen en Abel Kraamsaal — vier kunstenaars\, vier stories\, een verhoog. Hulle skryf\, speel en leef Afrikaans soos min\, en nou is hulle saam op een verhoog vir ’n aand van rou\, eerlike musiek en viering. Noem dit ’n bietjie sinmaak van die laaste 100 jaar van taal en die laaste 50 jaar van lewe — alles in een aand\, een plek\, en in een kragtige\, kreatiewe taal: Afrikaans.
URL:http://neilsandilands.com/event/die-vyftigers-mosselbaai/
LOCATION:Reed Valley\, ReedValley Wines\, Mosselbaai\, Western Cape\, 6506\, South Africa
END:VEVENT
BEGIN:VEVENT
DTSTART;TZID=UTC:20250803T150000
DTEND;TZID=UTC:20250803T163000
DTSTAMP:20260421T144520
CREATED:20250609T095045Z
LAST-MODIFIED:20250609T095048Z
UID:2452-1754233200-1754238600@neilsandilands.com
SUMMARY:DIE DIE VYFTIGERS - GEORGE
DESCRIPTION:Neil Sandilands\, Schalk Joubert\, Gian Groen en Abel Kraamsaal — vier kunstenaars\, vier stories\, een verhoog. Hulle skryf\, speel en leef Afrikaans soos min\, en nou is hulle saam op een verhoog vir ’n aand van rou\, eerlike musiek en viering. Noem dit ’n bietjie sinmaak van die laaste 100 jaar van taal en die laaste 50 jaar van lewe — alles in een aand\, een plek\, en in een kragtige\, kreatiewe taal: Afrikaans.
URL:http://neilsandilands.com/event/die-die-vyftigers-george/
LOCATION:Fancourt\, Montagu St\, Blanco\, Western Cape\, 6531\, South Africa
END:VEVENT
BEGIN:VEVENT
DTSTART;TZID=UTC:20250802T080000
DTEND;TZID=UTC:20250802T170000
DTSTAMP:20260421T144520
CREATED:20250602T075455Z
LAST-MODIFIED:20250602T075506Z
UID:2408-1754121600-1754154000@neilsandilands.com
SUMMARY:DIE VYFTIGERS - ST FRANCIS BAY
DESCRIPTION:Neil Sandilands\, Schalk Joubert\, Gian Groen en Abel Kraamsaal — vier kunstenaars\, vier stories\, een verhoog. Hulle skryf\, speel en leef Afrikaans soos min\, en nou is hulle saam op een verhoog vir ’n aand van rou\, eerlike musiek en viering. Noem dit ’n bietjie sinmaak van die laaste 100 jaar van taal en die laaste 50 jaar van lewe — alles in een aand\, een plek\, en in een kragtige\, kreatiewe taal: Afrikaans.
URL:http://neilsandilands.com/event/die-vyftigers-st-francis-bay/
LOCATION:ST FRANCIS BREWERY\, 171 St Francis Drive\, Saint Francis Bay\, Eastern Cape\, 6312\, South Africa
END:VEVENT
BEGIN:VEVENT
DTSTART;TZID=UTC:20250801T193000
DTEND;TZID=UTC:20250801T210000
DTSTAMP:20260421T144520
CREATED:20250623T080522Z
LAST-MODIFIED:20250623T080525Z
UID:2529-1754076600-1754082000@neilsandilands.com
SUMMARY:DIE VYFTIGERS - GQEBERHA
DESCRIPTION:Neil Sandilands\, Schalk Joubert\, Gian Groen en Abel Kraamsaal — vier kunstenaars\, vier stories\, een verhoog. Hulle skryf\, speel en leef Afrikaans soos min\, en nou is hulle saam op een verhoog vir ’n aand van rou\, eerlike musiek en viering. Noem dit ’n bietjie sinmaak van die laaste 100 jaar van taal en die laaste 50 jaar van lewe — alles in een aand\, een plek\, en in een kragtige\, kreatiewe taal: Afrikaans.
URL:http://neilsandilands.com/event/die-vyftigers-gqeberha-2/
LOCATION:The Music Kitchen\, 69 Mangold St\, Newton Park\, Gqeberha\, Eastern Cape\, 6055\, South Africa
END:VEVENT
BEGIN:VEVENT
DTSTART;TZID=UTC:20250731T193000
DTEND;TZID=UTC:20250731T210000
DTSTAMP:20260421T144520
CREATED:20250602T075822Z
LAST-MODIFIED:20250623T080412Z
UID:2406-1753990200-1753995600@neilsandilands.com
SUMMARY:DIE VYFTIGERS - GQEBERHA
DESCRIPTION:Neil Sandilands\, Schalk Joubert\, Gian Groen en Abel Kraamsaal — vier kunstenaars\, vier stories\, een verhoog. Hulle skryf\, speel en leef Afrikaans soos min\, en nou is hulle saam op een verhoog vir ’n aand van rou\, eerlike musiek en viering. Noem dit ’n bietjie sinmaak van die laaste 100 jaar van taal en die laaste 50 jaar van lewe — alles in een aand\, een plek\, en in een kragtige\, kreatiewe taal: Afrikaans.
URL:http://neilsandilands.com/event/die-vyftigers-gqeberha/
LOCATION:The Music Kitchen\, 69 Mangold St\, Newton Park\, Gqeberha\, Eastern Cape\, 6055\, South Africa
END:VEVENT
BEGIN:VEVENT
DTSTART;TZID=UTC:20250713T160000
DTEND;TZID=UTC:20250713T173000
DTSTAMP:20260421T144520
CREATED:20250602T075926Z
LAST-MODIFIED:20250602T075928Z
UID:2403-1752422400-1752427800@neilsandilands.com
SUMMARY:DIE VYFTIGERS - STRAND
DESCRIPTION:Neil Sandilands\, Schalk Joubert\, Gian Groen en Abel Kraamsaal — vier kunstenaars\, vier stories\, een verhoog. Hulle skryf\, speel en leef Afrikaans soos min\, en nou is hulle saam op een verhoog vir ’n aand van rou\, eerlike musiek en viering. Noem dit ’n bietjie sinmaak van die laaste 100 jaar van taal en die laaste 50 jaar van lewe — alles in een aand\, een plek\, en in een kragtige\, kreatiewe taal: Afrikaans.
URL:http://neilsandilands.com/event/die-vyftigers-strand/
LOCATION:The Drama Factory – Strand\, 10 Comprop Sq\, Henry Vos Close\, Asla Business Park\, Strand\, Western Cape\, 7140\, South Africa
END:VEVENT
BEGIN:VEVENT
DTSTART;TZID=UTC:20250712T203000
DTEND;TZID=UTC:20250712T220000
DTSTAMP:20260421T144520
CREATED:20250602T080016Z
LAST-MODIFIED:20250602T080018Z
UID:2401-1752352200-1752357600@neilsandilands.com
SUMMARY:DIE VYFTIGERS - DURBANVILLE
DESCRIPTION:Neil Sandilands\, Schalk Joubert\, Gian Groen en Abel Kraamsaal — vier kunstenaars\, vier stories\, een verhoog. Hulle skryf\, speel en leef Afrikaans soos min\, en nou is hulle saam op een verhoog vir ’n aand van rou\, eerlike musiek en viering. Noem dit ’n bietjie sinmaak van die laaste 100 jaar van taal en die laaste 50 jaar van lewe — alles in een aand\, een plek\, en in een kragtige\, kreatiewe taal: Afrikaans.
URL:http://neilsandilands.com/event/die-vyftigers-durbanville/
LOCATION:DIE BOER\, 6 Chenoweth St\, Durbanville\, Western Cape\, 7551\, South Africa
END:VEVENT
BEGIN:VEVENT
DTSTART;TZID=UTC:20250711T200000
DTEND;TZID=UTC:20250711T213000
DTSTAMP:20260421T144520
CREATED:20250602T080048Z
LAST-MODIFIED:20250602T080051Z
UID:2399-1752264000-1752269400@neilsandilands.com
SUMMARY:DIE VYFTIGERS - STELLENBOSCH
DESCRIPTION:Neil Sandilands\, Schalk Joubert\, Gian Groen en Abel Kraamsaal — vier kunstenaars\, vier stories\, een verhoog. Hulle skryf\, speel en leef Afrikaans soos min\, en nou is hulle saam op een verhoog vir ’n aand van rou\, eerlike musiek en viering. Noem dit ’n bietjie sinmaak van die laaste 100 jaar van taal en die laaste 50 jaar van lewe — alles in een aand\, een plek\, en in een kragtige\, kreatiewe taal: Afrikaans.
URL:http://neilsandilands.com/event/die-vyftigers-stellenbosch/
LOCATION:LIVE at Daisy Jones\, R44 klapmuts rd\, Stellenbosch\, Western Cape\, 7613\, South Africa
END:VEVENT
BEGIN:VEVENT
DTSTART;TZID=UTC:20250710T190000
DTEND;TZID=UTC:20250710T203000
DTSTAMP:20260421T144520
CREATED:20250602T080121Z
LAST-MODIFIED:20250602T080123Z
UID:2396-1752174000-1752179400@neilsandilands.com
SUMMARY:DIE VYFTIGERS - PATERNOSTER
DESCRIPTION:Die VYFTIGERS – Neil Sandilands\, Schalk Joubert\, Gian Groen\, Abel Kraamsaal Hierdie jaar is Afrikaans amptelik 100 jaar oud. Tussenin is die Vyftigers. Dis nou mense wat hierdie jaar\, in 2025\, presies 50 jare om die son sal vier. Só\, mooi in die middel\, waar al die aksie lê.
URL:http://neilsandilands.com/event/die-vyftigers-paternoster/
LOCATION:Die Koelkamers\, 1 Kreefte St\, Kliprug\, Paternoster\, Western Cape\, 7381\, South Africa
END:VEVENT
END:VCALENDAR